BEGIN:VCALENDAR
VERSION:2.0
PRODID:-//Als helpen niet helpt - ECPv6.15.20//NONSGML v1.0//EN
CALSCALE:GREGORIAN
METHOD:PUBLISH
X-WR-CALNAME:Als helpen niet helpt
X-ORIGINAL-URL:https://alshelpenniethelpt.nl
X-WR-CALDESC:Evenementen voor Als helpen niet helpt
REFRESH-INTERVAL;VALUE=DURATION:PT1H
X-Robots-Tag:noindex
X-PUBLISHED-TTL:PT1H
BEGIN:VTIMEZONE
TZID:Europe/Paris
BEGIN:DAYLIGHT
TZOFFSETFROM:+0100
TZOFFSETTO:+0200
TZNAME:CEST
DTSTART:20160327T010000
END:DAYLIGHT
BEGIN:STANDARD
TZOFFSETFROM:+0200
TZOFFSETTO:+0100
TZNAME:CET
DTSTART:20161030T010000
END:STANDARD
BEGIN:DAYLIGHT
TZOFFSETFROM:+0100
TZOFFSETTO:+0200
TZNAME:CEST
DTSTART:20170326T010000
END:DAYLIGHT
BEGIN:STANDARD
TZOFFSETFROM:+0200
TZOFFSETTO:+0100
TZNAME:CET
DTSTART:20171029T010000
END:STANDARD
BEGIN:DAYLIGHT
TZOFFSETFROM:+0100
TZOFFSETTO:+0200
TZNAME:CEST
DTSTART:20180325T010000
END:DAYLIGHT
BEGIN:STANDARD
TZOFFSETFROM:+0200
TZOFFSETTO:+0100
TZNAME:CET
DTSTART:20181028T010000
END:STANDARD
END:VTIMEZONE
BEGIN:VEVENT
DTSTART;TZID=Europe/Paris:20170517T200000
DTEND;TZID=Europe/Paris:20170517T220000
DTSTAMP:20260419T214616
CREATED:20170405T045449Z
LAST-MODIFIED:20170505T093217Z
UID:841-1495051200-1495058400@alshelpenniethelpt.nl
SUMMARY:Thema-avond: Hoe ga jij om met dwang bij je kind met autistisme?
DESCRIPTION:Veel kinderen met autisme hebben last van angst of dwang. Dit vraagt veel van jou als ouder en van jullie relatie en gezin. Deze avond geef ik je inzicht hoe het patroon van meedwangen en vermijden werkt. \nJe krijgt handvatten hoe jij – in jouw situatie – meer ruimte voor jezelf kunt maken en sneller in je rust komt. Dit alles in liefde en zorgvuldigheid. \nKlik hier voor meer informatie of aanmelden.
URL:https://alshelpenniethelpt.nl/activiteiten/thema-avond-hoe-ga-je-om-met-dwang-bij-je-kind-met-autistisme/
LOCATION:Wijkcentrum Kerk&Zanen\, Oude Wereld 51-59\, Alphen aan den Rijn
CATEGORIES:Thema-avond
ATTACH;FMTTYPE=image/jpeg:https://alshelpenniethelpt.nl/wp-content/uploads/2017/04/JPG-Angst-en-Dwang.jpg
END:VEVENT
END:VCALENDAR