BEGIN:VCALENDAR
VERSION:2.0
PRODID:-//Als helpen niet helpt - ECPv6.15.20//NONSGML v1.0//EN
CALSCALE:GREGORIAN
METHOD:PUBLISH
X-WR-CALNAME:Als helpen niet helpt
X-ORIGINAL-URL:https://alshelpenniethelpt.nl
X-WR-CALDESC:Evenementen voor Als helpen niet helpt
REFRESH-INTERVAL;VALUE=DURATION:PT1H
X-Robots-Tag:noindex
X-PUBLISHED-TTL:PT1H
BEGIN:VTIMEZONE
TZID:Europe/Paris
BEGIN:DAYLIGHT
TZOFFSETFROM:+0100
TZOFFSETTO:+0200
TZNAME:CEST
DTSTART:20170326T010000
END:DAYLIGHT
BEGIN:STANDARD
TZOFFSETFROM:+0200
TZOFFSETTO:+0100
TZNAME:CET
DTSTART:20171029T010000
END:STANDARD
BEGIN:DAYLIGHT
TZOFFSETFROM:+0100
TZOFFSETTO:+0200
TZNAME:CEST
DTSTART:20180325T010000
END:DAYLIGHT
BEGIN:STANDARD
TZOFFSETFROM:+0200
TZOFFSETTO:+0100
TZNAME:CET
DTSTART:20181028T010000
END:STANDARD
BEGIN:DAYLIGHT
TZOFFSETFROM:+0100
TZOFFSETTO:+0200
TZNAME:CEST
DTSTART:20190331T010000
END:DAYLIGHT
BEGIN:STANDARD
TZOFFSETFROM:+0200
TZOFFSETTO:+0100
TZNAME:CET
DTSTART:20191027T010000
END:STANDARD
END:VTIMEZONE
BEGIN:VEVENT
DTSTART;TZID=Europe/Paris:20181103T130000
DTEND;TZID=Europe/Paris:20181103T163000
DTSTAMP:20260419T231856
CREATED:20180710T073336Z
LAST-MODIFIED:20180712T072901Z
UID:2268-1541250000-1541262600@alshelpenniethelpt.nl
SUMMARY:Workshop: Hoe stap je uit de dramadriehoek?
DESCRIPTION:Stap uit de dramadriehoek!\nAls je een gezinslid hebt met psychische klachten heb je veel te maken met angstig\, dwangmatig of dominant gedrag van de ander. Grote kans dat jij veel in de dramadriehoek wordt betrokken.\nDe dramadriehoek is een manier van communiceren en omgaan met elkaar. Je bent een redder\, je voelt je slachtoffer of je gaat (al of niet hardop) klagen. Deze manier van omgaan met elkaar voelt vaak niet goed\, maar je weet niet hoe je eruit moet komen. Zeker bij angstig\, dwangmatig of dominant gedrag van de ander\, zit je waarschijnlijk veel in de rol van redder\, om daarna de schuld te krijgen dat je het niet goed hebt gedaan. Terwijl je het goed bedoelde. \nEr is een eenvoudige manier om dit te herkennen. Èn er zijn praktische tools om hieruit te stappen. Dan hoef jij je geen slachtoffer meer te voelen. En kun je stoppen met redden en klagen. \nIn deze workshop leer je de dramadriehoek te herkennen. En je  krijgt praktische tools waarmee we gaan oefenen\, zodat je dit direct thuis in de praktijk kunt gaan brengen. \nNiet tégen de ander\, wel vóór jezelf. \nLees ervaringen van vorige deelnemers aan deze workshop. \n\nMinimaal 6 maximaal 10 deelnemers\nActieve workshop. Ik geef uitleg\, maar je gaat vooral zelf aan de slag met de oefeningen. Door zelf te ervaren\, integreer je dit het beste in je eigen leven\nVerzorgd met hapjes en drankjes\nVan 13.00 tot 16.30 uur workshop\, daarna is het mogelijk na te praten met elkaar en ervaringen uit te wisselen\, natuurlijk onder het genot van een hapje en drankje\n\n \n\n\n\n\nSchrijf je nu in voor de workshop\n* verplicht\nEmail *\n\n  \nVoornaam *\n\n  \nAchternaam
URL:https://alshelpenniethelpt.nl/activiteiten/workshop-uit-dramadriehoek-bij-psychische-klachten-in-je-gezin-2/
LOCATION:Wijkcentrum Swaenswijk\, Raadhuisstraat 84\, Alphen a/d Rijn\, 2406 AH
CATEGORIES:workshop
ATTACH;FMTTYPE=image/png:https://alshelpenniethelpt.nl/wp-content/uploads/2017/04/DRAMA.png
END:VEVENT
END:VCALENDAR