BEGIN:VCALENDAR
VERSION:2.0
PRODID:-//Als helpen niet helpt - ECPv6.15.20//NONSGML v1.0//EN
CALSCALE:GREGORIAN
METHOD:PUBLISH
X-ORIGINAL-URL:https://alshelpenniethelpt.nl
X-WR-CALDESC:Evenementen voor Als helpen niet helpt
REFRESH-INTERVAL;VALUE=DURATION:PT1H
X-Robots-Tag:noindex
X-PUBLISHED-TTL:PT1H
BEGIN:VTIMEZONE
TZID:Europe/Paris
BEGIN:DAYLIGHT
TZOFFSETFROM:+0100
TZOFFSETTO:+0200
TZNAME:CEST
DTSTART:20170326T010000
END:DAYLIGHT
BEGIN:STANDARD
TZOFFSETFROM:+0200
TZOFFSETTO:+0100
TZNAME:CET
DTSTART:20171029T010000
END:STANDARD
BEGIN:DAYLIGHT
TZOFFSETFROM:+0100
TZOFFSETTO:+0200
TZNAME:CEST
DTSTART:20180325T010000
END:DAYLIGHT
BEGIN:STANDARD
TZOFFSETFROM:+0200
TZOFFSETTO:+0100
TZNAME:CET
DTSTART:20181028T010000
END:STANDARD
BEGIN:DAYLIGHT
TZOFFSETFROM:+0100
TZOFFSETTO:+0200
TZNAME:CEST
DTSTART:20190331T010000
END:DAYLIGHT
BEGIN:STANDARD
TZOFFSETFROM:+0200
TZOFFSETTO:+0100
TZNAME:CET
DTSTART:20191027T010000
END:STANDARD
END:VTIMEZONE
BEGIN:VEVENT
DTSTART;TZID=Europe/Paris:20181105T100000
DTEND;TZID=Europe/Paris:20181106T163000
DTSTAMP:20260423T102818
CREATED:20180623T080717Z
LAST-MODIFIED:20180907T074216Z
UID:2171-1541412000-1541521800@alshelpenniethelpt.nl
SUMMARY:2-daagse verdieping voor professionals - Anders kijken naar angst
DESCRIPTION:2-daagse verdieping voor professionals in het thema angst\n\n“Ik ben de laatste jaren bij diverse therapeuten en coaches geweest\, maar nog nooit heeft iemand tegen me gezegd dat ik reageer uit angst. Jij bent de eerste. En je hebt gelijk.”\nDeze reactie krijg ik regelmatig van een cliënt.\n\n“Jij weet zoveel over de andere kant van angst\, misschien moet je daar eens iets in gaan delen.”\n\n\nDat was de tip die ik in de opleiding karakterstructuren kreeg.\n\n\nEn eigenlijk klopt het wel. Ik zie de vele kanten van angst. Met name mensen die bang zijn voor angst. Die zich niet bewust zijn dat hun eigen angst leidend is in hun leven.\n\n\nVandaar deze 2-daagse verdieping voor professionals.\n\nHyperventilatie\, paniekaanvallen\, faalangst zijn bekende uitingen van angst bij mensen.\n\nEr zijn ook mensen die niet durven te voelen dat zij bang zijn en daar op een andere manier mee omgaan\, waar jij als coach of therapeut mee te maken hebt.\nEen client die: \n\nin de weerstand zit\nin de belemmerende overtuigingen blijft\nvastzit in patronen\nniet gemotiveerd is\nniet wil\ndie niet naar zichzelf wil kijken\nniet in beweging wil komen\nhet niet aan wil gaan\nveel blokkades heeft\nzich blijft verzetten\nwaarbij jij geen ingang kunt vinden om iets in beweging te zetten\n\nWat we niet zien is de angst die hieronder ligt.\nAngst zorgt ervoor dat iemand minder beweegt\, in hetzelfde patroon blijft\, denkt in onmogelijkheden. \nMaar ook: Durf jij – als professional – te bewegen? Durf jij het aan om door diverse methodieken en technieken heen te bewegen? Durf jij het aan om zelf te mengen op het palet dat ik je aanreik?\nAls professional ben jij degene die het voorbeeld geeft aan je cliënt. Juist in datgene wat je niet ziet\, wat je doorgeeft in de onderstroom. \nDe verschillende kanten van angst\nIn deze 2-daagse verdieping neem ik je mee naar de diversiteit van angst. \nWat zijn de verschillende gezichten van angst?\nWelke lagen zijn er in angst?\nHoe herken je mensen die bang zijn voor hun angst?\nHoe komt het dat je soms met een client niet verder komt?\nHoe ga je om met een client die niet wil voelen dat hij onderliggende angst heeft?\nHoe ga je om met jezelf als je er met jouw methode niet helemaal uitkomt bij je cliënt? \nHoe ga je om mensen die bang zijn voor angst? \nNa deze 2-daagse beschik jij over een palet om te kijken naar je client met (verborgen) angst \n\nKijk jij op een andere manier naar angst\nKomt jouw client sneller in beweging\nKun je angst benaderen vanuit Transactionele Analyse\, Systemisch Werk\, Karakterstructuren\, NLP\nBeschik je over diverse technieken om op een andere manier met angst te werken bij jouw client\nBen je je bewust van jouw angst in de tegenoverdracht\n\nGeschikt voor:\n\nCoaches\nTherapeuten\nAndere professionals die personlijke begeleiding geven aan mensen\n\nWaarom geef ik deze 2-daagse?\nIn mijn praktijk werk ik met mensen die een partner of kind hebben met angst\, dwang of andere GGZ-stoornis. Het grootste thema van mensen is dat zij niet herkennen en erkennen dat alles wat zij doen voor hun partner of kind (meedwangen en vermijden)\, dat zij dit doen vanuit hun eigen angst.\nAngst voor de reactie van de ander.\nAngst dat de situatie slechter gaat worden als zij niet meegaan in het gedrag van de ander.\nAngst die wordt gevoed en onderhouden door een ander (emotionele chantage). \nSinds ik steeds meer durf\, is het effect bij mijn cliënten steeds groter geworden.\nMijn durf om mijn angst steeds meer los te laten\, om me werkelijk af te stemmen op mijn cliënt\, om alles wat ik professioneel geleerd heb te mengen op mijn palet.\nMijn kennis en ervaring wil ik graag delen\, omdat er zoveel meer te vertellen is over angst. Juist omdat het zich op andere manieren kan uiten. \nPraktische informatie:\n\nMinimaal 6 maximaal 12 deelnemers\nActieve 2-daagse\nIk geef uitleg en achtergrondinformatie en je gaat zelf aan de slag met diverse methoden.\nDoor zelf te ervaren en te oefenen met anderen\, integreer je dit het beste in je eigen manier van werken\nVerzorgd met koffie/thee en lunch\nMaandag 5 en dinsdag 6 november van 10.00 tot 16.30 uur\n€350 excl BTW\n\nNeem gerust contact op als je meer over deze 2-daagse wilt weten of als je je wilt aanmelden
URL:https://alshelpenniethelpt.nl/activiteiten/2-daagse-verdieping-voor-professionals-anders-kijken-naar-angst-2/
LOCATION:Wijkcentrum Swaenswijk\, Raadhuisstraat 84\, Alphen a/d Rijn\, 2406 AH
CATEGORIES:Training voor coaches
ATTACH;FMTTYPE=image/png:https://alshelpenniethelpt.nl/wp-content/uploads/2018/06/Anders-kijken-naar-angst.png
END:VEVENT
BEGIN:VEVENT
DTSTART;VALUE=DATE:20180827
DTEND;VALUE=DATE:20180901
DTSTAMP:20260423T102818
CREATED:20180820T091615Z
LAST-MODIFIED:20180820T124805Z
UID:2320-1535328000-1535759999@alshelpenniethelpt.nl
SUMMARY:Gratis challenge voor professionals- Angst vanuit diverse methodieken
DESCRIPTION:Gratis challenge voor professionals – De andere gezichten van angst\nAngst bekeken vanuit verschillende methodieken\nHoe kun je kijken naar angst vanuit \n\nNLP\nTranactionele analyse\nSystemisch werk\nKarakterstructuren\nMindfulness\n\n\n\nHyperventilatie\, paniekaanvallen\, faalangst zijn bekende uitingen van angst bij mensen.\n\nEr zijn ook mensen die niet durven te voelen dat zij bang zijn en daar op een andere manier mee omgaan\, zoals: \n\nzich aanpassen aan anderen\nalle verantwoordelijkheid op zich nemen\nveel klagen\ncontrole willen hebben\nuit contact gaan\nhet leed van anderen op zich nemen\ndoor schaamte niets zeggen\nbelemmerende overtuigingen\n\nDe verschillende gezichten van angst\nIn deze 5-daagse challenge laat ik je vanuit diverse methodieken zien hoe je naar angst kunt kijken. Om jou als professional anders naar angst te laten kijken dan je tot nu toe gewend bent. \nWat zijn de verschillende gezichten van angst vanuit diverse methodieken?\nHoe herken je mensen die bang zijn voor angst?\nHoe ga je om met een client die niet wil voelen dat hij onderliggende angst heeft \nGeschikt voor:\n\nCoaches\nTherapeuten\nAndere professionals die persoonlijke begeleiding geven aan mensen\n\nEn als jij nieuwsgierig bent naar andere invalshoeken met betrekking tot angst. \nWaarom geef ik deze 5-daagse challenge?\n\n“Jij weet zoveel over de andere kant van angst\, misschien moet je daar eens iets in gaan delen.”\n\n\nDat was de tip die ik in de opleiding karakterstructuren kreeg.\n\n\nEn eigenlijk klopt het wel. Ik zie vele kanten van angst. Met name mensen die bang zijn voor angst – van zichzelf of van anderen. Die zich niet bewust zijn dat hun eigen angst leidend is in hun leven.\n\nIn mijn praktijk werk ik met mensen die een partner of kind hebben met angstig\, dwangmatig of dominant gedrag. Het grootste thema van deze mensen is dat zij gaan herkennen en erkennen dat alles wat zij doen voor hun partner of kind\, dat zij dit doen vanuit hun eigen angst.\nAngst voor de reactie van de ander.\nAngst dat de situatie slechter gaat worden als zij niet meegaan in het gedrag van de ander.\nAngst die wordt gevoed en onderhouden door een ander (emotionele chantage). \nIn deze challenge wil ik jou als coach of therapeut graag laten delen in mijn ervaring. \nPraktische informatie:\n\nVan maandag 27 augustus tot en met vrijdag 31 augustus.\nVijf dagen lang een mail met uitleg over angst vanuit een methodiek.\nBesloten Facebookgroep waarin je je vragen kunt stellen en ervaringen kunt delen. In deze groep vindt de interactie plaats. In deze groep beantwoord ik vragen\, geef ik extra informatie en doe ik Facebook live.\n\nDOE MEE MET DE CHALLENGE\n\n\n\n\n*verplicht\nE-mail *\n\n  \nVoornaam *\n\n  \nAchternaam
URL:https://alshelpenniethelpt.nl/activiteiten/challenge-andere-gezichten-angst-diverse-methodieken/
CATEGORIES:Challenge,Training voor coaches
ATTACH;FMTTYPE=image/png:https://alshelpenniethelpt.nl/wp-content/uploads/2018/08/Challenge-angst-FB-en-Website.png
ORGANIZER;CN="Sterk in Eigen Kracht":MAILTO:info@sterkineigenkracht.nl
END:VEVENT
END:VCALENDAR