BEGIN:VCALENDAR
VERSION:2.0
PRODID:-//Als helpen niet helpt - ECPv6.15.20//NONSGML v1.0//EN
CALSCALE:GREGORIAN
METHOD:PUBLISH
X-ORIGINAL-URL:https://alshelpenniethelpt.nl
X-WR-CALDESC:Evenementen voor Als helpen niet helpt
REFRESH-INTERVAL;VALUE=DURATION:PT1H
X-Robots-Tag:noindex
X-PUBLISHED-TTL:PT1H
BEGIN:VTIMEZONE
TZID:Europe/Paris
BEGIN:DAYLIGHT
TZOFFSETFROM:+0100
TZOFFSETTO:+0200
TZNAME:CEST
DTSTART:20160327T010000
END:DAYLIGHT
BEGIN:STANDARD
TZOFFSETFROM:+0200
TZOFFSETTO:+0100
TZNAME:CET
DTSTART:20161030T010000
END:STANDARD
BEGIN:DAYLIGHT
TZOFFSETFROM:+0100
TZOFFSETTO:+0200
TZNAME:CEST
DTSTART:20170326T010000
END:DAYLIGHT
BEGIN:STANDARD
TZOFFSETFROM:+0200
TZOFFSETTO:+0100
TZNAME:CET
DTSTART:20171029T010000
END:STANDARD
BEGIN:DAYLIGHT
TZOFFSETFROM:+0100
TZOFFSETTO:+0200
TZNAME:CEST
DTSTART:20180325T010000
END:DAYLIGHT
BEGIN:STANDARD
TZOFFSETFROM:+0200
TZOFFSETTO:+0100
TZNAME:CET
DTSTART:20181028T010000
END:STANDARD
END:VTIMEZONE
BEGIN:VEVENT
DTSTART;TZID=Europe/Paris:20170930T100000
DTEND;TZID=Europe/Paris:20170930T170000
DTSTAMP:20260419T202006
CREATED:20170809T085833Z
LAST-MODIFIED:20170809T085833Z
UID:1128-1506765600-1506790800@alshelpenniethelpt.nl
SUMMARY:Mind\, landelijke familiedag
DESCRIPTION:Op 30 september is de eerste landelijke familiedag voor naasten van mensen met een psychische kwetsbaarheid.\nIk ben gevraagd om in het plenaire gedeelte mijn verhaal te vertellen. Een hele eer\, wat ik natuurlijk graag doe.\nDie dag wordt het boek gepresenteerd “Focus op familie” waar ik ook voor geinterviewd ben.\nEn ik mag ’s middags een workshop geven waarin ik actief met de deelnemers aan de slag wil. \nMeer info en aanmelding hier. \n 
URL:https://alshelpenniethelpt.nl/activiteiten/mind-landelijke-familiedag/
LOCATION:Mind\, Lambert Heijnricsstraat 23\, Amersfoort\, 3817\, Nederland
END:VEVENT
END:VCALENDAR